BEGIN:VCALENDAR
VERSION:2.0
PRODID:-//Malorshiga - ECPv6.8.3//NONSGML v1.0//EN
CALSCALE:GREGORIAN
METHOD:PUBLISH
X-WR-CALNAME:Malorshiga
X-ORIGINAL-URL:https://malorshiga.com
X-WR-CALDESC:Events for Malorshiga
REFRESH-INTERVAL;VALUE=DURATION:PT1H
X-Robots-Tag:noindex
X-PUBLISHED-TTL:PT1H
BEGIN:VTIMEZONE
TZID:Africa/Abidjan
BEGIN:STANDARD
TZOFFSETFROM:+0000
TZOFFSETTO:+0000
TZNAME:GMT
DTSTART:20190101T000000
END:STANDARD
END:VTIMEZONE
BEGIN:VEVENT
DTSTART;TZID=Africa/Abidjan:20191019T190000
DTEND;TZID=Africa/Abidjan:20191019T233000
DTSTAMP:20260425T023519
CREATED:20241209T203854Z
LAST-MODIFIED:20241209T204007Z
UID:1025-1571511600-1571527800@malorshiga.com
SUMMARY:Nova Chmelnice\, Prague\, CZ
DESCRIPTION:
URL:https://malorshiga.com/event/nova-chmelnice-prague-cz/
LOCATION:Prague
END:VEVENT
END:VCALENDAR