BEGIN:VCALENDAR
VERSION:2.0
PRODID:-//Malorshiga - ECPv6.8.3//NONSGML v1.0//EN
CALSCALE:GREGORIAN
METHOD:PUBLISH
X-WR-CALNAME:Malorshiga
X-ORIGINAL-URL:https://malorshiga.com
X-WR-CALDESC:Events for Malorshiga
REFRESH-INTERVAL;VALUE=DURATION:PT1H
X-Robots-Tag:noindex
X-PUBLISHED-TTL:PT1H
BEGIN:VTIMEZONE
TZID:Africa/Abidjan
BEGIN:STANDARD
TZOFFSETFROM:+0000
TZOFFSETTO:+0000
TZNAME:GMT
DTSTART:20180101T000000
END:STANDARD
END:VTIMEZONE
BEGIN:VEVENT
DTSTART;TZID=Africa/Abidjan:20181124T200000
DTEND;TZID=Africa/Abidjan:20181124T233000
DTSTAMP:20260425T172605
CREATED:20230104T094642Z
LAST-MODIFIED:20241209T203231Z
UID:40-1543089600-1543102200@malorshiga.com
SUMMARY:Svarunova Noč\, Medvode\, SI
DESCRIPTION:
URL:https://malorshiga.com/event/event-4/
LOCATION:Medvode
END:VEVENT
END:VCALENDAR