BEGIN:VCALENDAR
VERSION:2.0
PRODID:-//Malorshiga - ECPv6.8.3//NONSGML v1.0//EN
CALSCALE:GREGORIAN
METHOD:PUBLISH
X-ORIGINAL-URL:https://malorshiga.com
X-WR-CALDESC:Events for Malorshiga
REFRESH-INTERVAL;VALUE=DURATION:PT1H
X-Robots-Tag:noindex
X-PUBLISHED-TTL:PT1H
BEGIN:VTIMEZONE
TZID:Africa/Abidjan
BEGIN:STANDARD
TZOFFSETFROM:+0000
TZOFFSETTO:+0000
TZNAME:GMT
DTSTART:20200101T000000
END:STANDARD
END:VTIMEZONE
BEGIN:VEVENT
DTSTART;TZID=Africa/Abidjan:20200117T190000
DTEND;TZID=Africa/Abidjan:20200117T233000
DTSTAMP:20260424T193814
CREATED:20241209T203948Z
LAST-MODIFIED:20241209T203948Z
UID:1029-1579287600-1579303800@malorshiga.com
SUMMARY:Dirty Skunks Fest - Ljubljana\, SI [Headline]
DESCRIPTION:
URL:https://malorshiga.com/event/dirty-skunks-fest-ljubljana-si-headline/
LOCATION:Ljubljana\, Ljubljana
END:VEVENT
END:VCALENDAR